BEGIN:VCALENDAR
VERSION:2.0
PRODID:-//Mass Mentoring Partnership - ECPv6.15.20//NONSGML v1.0//EN
CALSCALE:GREGORIAN
METHOD:PUBLISH
X-WR-CALNAME:Mass Mentoring Partnership
X-ORIGINAL-URL:https://massmentors.org
X-WR-CALDESC:Events for Mass Mentoring Partnership
REFRESH-INTERVAL;VALUE=DURATION:PT1H
X-Robots-Tag:noindex
X-PUBLISHED-TTL:PT1H
BEGIN:VTIMEZONE
TZID:America/New_York
BEGIN:DAYLIGHT
TZOFFSETFROM:-0500
TZOFFSETTO:-0400
TZNAME:EDT
DTSTART:20250309T070000
END:DAYLIGHT
BEGIN:STANDARD
TZOFFSETFROM:-0400
TZOFFSETTO:-0500
TZNAME:EST
DTSTART:20251102T060000
END:STANDARD
BEGIN:DAYLIGHT
TZOFFSETFROM:-0500
TZOFFSETTO:-0400
TZNAME:EDT
DTSTART:20260308T070000
END:DAYLIGHT
BEGIN:STANDARD
TZOFFSETFROM:-0400
TZOFFSETTO:-0500
TZNAME:EST
DTSTART:20261101T060000
END:STANDARD
BEGIN:DAYLIGHT
TZOFFSETFROM:-0500
TZOFFSETTO:-0400
TZNAME:EDT
DTSTART:20270314T070000
END:DAYLIGHT
BEGIN:STANDARD
TZOFFSETFROM:-0400
TZOFFSETTO:-0500
TZNAME:EST
DTSTART:20271107T060000
END:STANDARD
END:VTIMEZONE
BEGIN:VEVENT
DTSTART;TZID=America/New_York:20260512T100000
DTEND;TZID=America/New_York:20260512T150000
DTSTAMP:20260423T073456
CREATED:20260413T150609Z
LAST-MODIFIED:20260423T113040Z
UID:45279-1778580000-1778598000@massmentors.org
SUMMARY:Social Emotional Learning & Youth Mental Health
DESCRIPTION:REGISTER HERE \nTuesday\, May 12th\, 10-3 \nAt this in-person workshop\, you’ll gain valuable insights into how SEL can help students develop skills essential for success in school\, career\, and life. At the heart of this training is the understanding that building strong\, supportive relationships with students is key to promoting their social and emotional well-being. Our trainer will provide you with a framework for understanding SEL and share practical suggestions for implementing SEL practices in out-of-school-time (OST) settings. By focusing on our own social and emotional skills\, we can model and support SEL growth in young people\, helping them become thriving and engaged adults. In addition\, we will explore the possibilities that staff and mentors may face when navigating today’s young people’s mental health challenges. Some young people are at greater risk of mental health conditions due to their living conditions\, stigma\, discrimination or exclusion\, or lack of access to quality support and services. A supportive adult presence – that allows for a shared connection and vulnerability – contributes to positive growth and adaptation. Join us for an enriching learning opportunity to share and strengthen your skills.  \nQuestions? Reach out to Lauren at lmccabe@massmentors.org \nA second opportunity to attend this workshop will be offered 5/20\, location TBD
URL:https://massmentors.org/event/social-emotional-learning-youth-mental-health/
LOCATION:75 Kneeland St\, Boston\, MA\, United States
END:VEVENT
BEGIN:VEVENT
DTSTART;TZID=America/New_York:20260514T180000
DTEND;TZID=America/New_York:20260514T210000
DTSTAMP:20260423T073456
CREATED:20260402T190016Z
LAST-MODIFIED:20260423T113041Z
UID:45048-1778781600-1778792400@massmentors.org
SUMMARY:Mentoring Night at Fenway! 6:45PM vs. Phillies
DESCRIPTION:Ticket Request Form
URL:https://massmentors.org/event/mentoring-night-at-fenway-645pm-vs-phillies/
LOCATION:Fenway Park\, 4 Jersey St\, Boston\, MA\, United States
END:VEVENT
BEGIN:VEVENT
DTSTART;TZID=America/New_York:20260519T120000
DTEND;TZID=America/New_York:20260519T130000
DTSTAMP:20260423T073456
CREATED:20260421T153542Z
LAST-MODIFIED:20260423T113041Z
UID:45455-1779192000-1779195600@massmentors.org
SUMMARY:Lunch and Learn: The Mentoring Connector
DESCRIPTION:REGISTER HERE\nVirtual\, Tuesday\, May 19th 12pm-1pm\nThis month join Mass Mentoring as we share updates on the national data base for mentoring programs\, The Mentoring Connector. Learn what it is\, how it can help your organization find volunteer mentors\, as well as how to get your program into the system.\n Lunch & Learn Sessions meet the 3rd Tuesday of each month (unless holidays conflict) from 12-1pm. This is a time for folks to tune in while eating lunch. Join us to learn more about best practices\, stay connected\, and keep up with recent research\, happenings\, and tools. We welcome you as often as you can join us!
URL:https://massmentors.org/event/lunch-and-learn-the-mentoring-connector/
END:VEVENT
BEGIN:VEVENT
DTSTART;TZID=America/New_York:20260520T100000
DTEND;TZID=America/New_York:20260520T150000
DTSTAMP:20260423T073456
CREATED:20260413T150609Z
LAST-MODIFIED:20260423T113041Z
UID:45280-1779271200-1779289200@massmentors.org
SUMMARY:Social Emotional Learning & Youth Mental Health
DESCRIPTION:REGISTER HERE  \nWednesday\, May 20th\, 10-3  \n At this in-person workshop\, you’ll gain valuable insights into how SEL can help students develop skills essential for success in school\, career\, and life. At the heart of this training is the understanding that building strong\, supportive relationships with students is key to promoting their social and emotional well-being. Our trainer will provide you with a framework for understanding SEL and share practical suggestions for implementing SEL practices in out-of-school-time (OST) settings. By focusing on our own social and emotional skills\, we can model and support SEL growth in young people\, helping them become thriving and engaged adults. In addition\, we will explore the possibilities that staff and mentors may face when navigating today’s young people’s mental health challenges. Some young people are at greater risk of mental health conditions due to their living conditions\, stigma\, discrimination or exclusion\, or lack of access to quality support and services. A supportive adult presence – that allows for a shared connection and vulnerability – contributes to positive growth and adaptation. Join us for an enriching learning opportunity to share and strengthen your skills.   \n Questions? Reach out to Lauren at lmccabe@massmentors.org  \nThis is a second opportunity to attend the same session as 5/12.
URL:https://massmentors.org/event/social-emotional-learning-youth-mental-health-2/
END:VEVENT
END:VCALENDAR