BEGIN:VCALENDAR
VERSION:2.0
PRODID:-//Mass Mentoring Partnership - ECPv6.15.20//NONSGML v1.0//EN
CALSCALE:GREGORIAN
METHOD:PUBLISH
X-WR-CALNAME:Mass Mentoring Partnership
X-ORIGINAL-URL:https://massmentors.org
X-WR-CALDESC:Events for Mass Mentoring Partnership
REFRESH-INTERVAL;VALUE=DURATION:PT1H
X-Robots-Tag:noindex
X-PUBLISHED-TTL:PT1H
BEGIN:VTIMEZONE
TZID:America/New_York
BEGIN:DAYLIGHT
TZOFFSETFROM:-0500
TZOFFSETTO:-0400
TZNAME:EDT
DTSTART:20250309T070000
END:DAYLIGHT
BEGIN:STANDARD
TZOFFSETFROM:-0400
TZOFFSETTO:-0500
TZNAME:EST
DTSTART:20251102T060000
END:STANDARD
BEGIN:DAYLIGHT
TZOFFSETFROM:-0500
TZOFFSETTO:-0400
TZNAME:EDT
DTSTART:20260308T070000
END:DAYLIGHT
BEGIN:STANDARD
TZOFFSETFROM:-0400
TZOFFSETTO:-0500
TZNAME:EST
DTSTART:20261101T060000
END:STANDARD
BEGIN:DAYLIGHT
TZOFFSETFROM:-0500
TZOFFSETTO:-0400
TZNAME:EDT
DTSTART:20270314T070000
END:DAYLIGHT
BEGIN:STANDARD
TZOFFSETFROM:-0400
TZOFFSETTO:-0500
TZNAME:EST
DTSTART:20271107T060000
END:STANDARD
END:VTIMEZONE
BEGIN:VEVENT
DTSTART;TZID=America/New_York:20260324T180000
DTEND;TZID=America/New_York:20260324T190000
DTSTAMP:20260423T072557
CREATED:20260213T144451Z
LAST-MODIFIED:20260213T144451Z
UID:44633-1774375200-1774378800@massmentors.org
SUMMARY:Youth Mentoring Day Prep Info Session with the Charles Group (option 1)
DESCRIPTION:Youth Mentoring Day Legislative Prep Session with the Charles Group \nTuesday\, March 24th 6pm – 7pm \nThis exclusive session\, hosted by The Charles Group\, is designed for participants who have registered for legislative visits during Youth Mentoring Day at the State House on April 1\, 2026. The session will equip you with the knowledge and confidence to make the most of your legislative meetings\, ensuring your advocacy efforts effectively communicate the importance of youth mentoring programs. \nTopics covered included: \nAdvocacy Goals: Understand the key issues and priorities to bring to the attention of legislators. \nCrafting Your Message: Learn how to share impactful stories that illustrate the transformative power of youth mentoring. \nMeeting Logistics: Get a walkthrough of what to expect during your visit\, including tips for navigating the State House. \nAdvocacy Best Practices: Discover strategies for effective communication\, including how to build rapport with legislators and make a compelling case. \n  \nREGISTER
URL:https://massmentors.org/event/youth-mentoring-day-prep-info-session-with-the-charles-group-option-1/
LOCATION:Virtual
ORGANIZER;CN="Janeen Smith":MAILTO:jsmith@massmentors.org
END:VEVENT
BEGIN:VEVENT
DTSTART;TZID=America/New_York:20260325T120000
DTEND;TZID=America/New_York:20260325T130000
DTSTAMP:20260423T072557
CREATED:20260213T144701Z
LAST-MODIFIED:20260213T144701Z
UID:44635-1774440000-1774443600@massmentors.org
SUMMARY:Youth Mentoring Day Prep Info Session with the Charles Group (option 2)
DESCRIPTION:Youth Mentoring Day Legislative Prep Session with the Charles Group \nWednesday March 25th 12-1pm \nThis exclusive session\, hosted by The Charles Group\, is designed for participants who have registered for legislative visits during Youth Mentoring Day at the State House on April 1\, 2026. The session will equip you with the knowledge and confidence to make the most of your legislative meetings\, ensuring your advocacy efforts effectively communicate the importance of youth mentoring programs. \nTopics covered included: \nAdvocacy Goals: Understand the key issues and priorities to bring to the attention of legislators. \nCrafting Your Message: Learn how to share impactful stories that illustrate the transformative power of youth mentoring. \nMeeting Logistics: Get a walkthrough of what to expect during your visit\, including tips for navigating the State House. \nAdvocacy Best Practices: Discover strategies for effective communication\, including how to build rapport with legislators and make a compelling case. \n  \nREGISTER
URL:https://massmentors.org/event/youth-mentoring-day-prep-info-session-with-the-charles-group-option-2/
LOCATION:Virtual
ORGANIZER;CN="Janeen Smith":MAILTO:jsmith@massmentors.org
END:VEVENT
END:VCALENDAR