BEGIN:VCALENDAR
VERSION:2.0
PRODID:-//Mass Mentoring Partnership - ECPv6.15.20//NONSGML v1.0//EN
CALSCALE:GREGORIAN
METHOD:PUBLISH
X-ORIGINAL-URL:https://massmentors.org
X-WR-CALDESC:Events for Mass Mentoring Partnership
REFRESH-INTERVAL;VALUE=DURATION:PT1H
X-Robots-Tag:noindex
X-PUBLISHED-TTL:PT1H
BEGIN:VTIMEZONE
TZID:America/New_York
BEGIN:DAYLIGHT
TZOFFSETFROM:-0500
TZOFFSETTO:-0400
TZNAME:EDT
DTSTART:20240310T070000
END:DAYLIGHT
BEGIN:STANDARD
TZOFFSETFROM:-0400
TZOFFSETTO:-0500
TZNAME:EST
DTSTART:20241103T060000
END:STANDARD
BEGIN:DAYLIGHT
TZOFFSETFROM:-0500
TZOFFSETTO:-0400
TZNAME:EDT
DTSTART:20250309T070000
END:DAYLIGHT
BEGIN:STANDARD
TZOFFSETFROM:-0400
TZOFFSETTO:-0500
TZNAME:EST
DTSTART:20251102T060000
END:STANDARD
BEGIN:DAYLIGHT
TZOFFSETFROM:-0500
TZOFFSETTO:-0400
TZNAME:EDT
DTSTART:20260308T070000
END:DAYLIGHT
BEGIN:STANDARD
TZOFFSETFROM:-0400
TZOFFSETTO:-0500
TZNAME:EST
DTSTART:20261101T060000
END:STANDARD
END:VTIMEZONE
BEGIN:VEVENT
DTSTART;TZID=America/New_York:20251104T100000
DTEND;TZID=America/New_York:20251104T120000
DTSTAMP:20260425T154700
CREATED:20250930T112205Z
LAST-MODIFIED:20250930T113713Z
UID:44090-1762250400-1762257600@massmentors.org
SUMMARY:MMP Connects Eastern MA (North\, Boston\, South) - Fall 2025
DESCRIPTION:Join us for this fall’s MMP Connects! \nAll of our partners on the Eastern half of the state\, including North and South shores/coast\, will meet at the Pao Arts Center in Boston to discuss the theme of Community Assets. Join us for this in-person networking opportunity\, where we will map what is strongest about the mentoring movement in our local contexts and lift up the wonderful\, hard work you all contribute to. We will discuss promotion of partnerships\, and gather insight into desired match activities for 2026. \nAgenda: \n10 – 10:30 Breakfast Networking \n10:30 – 11 Opening Context and our Mentoring Movement \n11 – 11:45 Open Discussion \n11:45 – 12 Debrief and Close \n  \nIf you have any questions\, email Lauren at lmccabe@massmentors.org. \n  \nREGISTER
URL:https://massmentors.org/event/mmp-connects-eastern-ma-north-boston-south-fall-2025/
LOCATION:Pao Arts Center\, 99 Albany Street\, Boston\, 02111\, United States
ORGANIZER;CN="Lauren McCabe":MAILTO:lmccabe@massmentors.org
END:VEVENT
BEGIN:VEVENT
DTSTART;TZID=America/New_York:20251105T100000
DTEND;TZID=America/New_York:20251105T120000
DTSTAMP:20260425T154700
CREATED:20250930T112418Z
LAST-MODIFIED:20250930T113825Z
UID:44093-1762336800-1762344000@massmentors.org
SUMMARY:MMP Connects Western and Central MA - Fall 2025
DESCRIPTION:Join us for this fall’s MMP Connects! Both our Western MA region and Central MA regional partners will meet at the Holyoke Public Library to discuss the theme of Community Assets. Join us for this in-person networking opportunity\, where we will map what is strongest about the mentoring movement in our local contexts and lift up the wonderful\, hard work you all contribute to. We will discuss promotion of partnerships\, and gather insight into desired match activities for 2026. \nAgenda: \n10 – 10:30 Breakfast Networking \n10:30 – 11 Opening Context and our Mentoring Movement \n11 – 11:45 Open Discussion \n11:45 – 12 Debrief and Close \n  \nIf you have any questions\, email Lauren at lmccabe@massmentors.org. \n  \nREGISTER
URL:https://massmentors.org/event/mmp-connects-western-and-central-ma-fall-2025/
LOCATION:Holyoke Public Library\, 250 Chestnut Street\, Holyoke\, MA\, 01040\, United States
ORGANIZER;CN="Lauren McCabe":MAILTO:lmccabe@massmentors.org
END:VEVENT
BEGIN:VEVENT
DTSTART;TZID=America/New_York:20251114T120000
DTEND;TZID=America/New_York:20251114T133000
DTSTAMP:20260425T154700
CREATED:20251105T200242Z
LAST-MODIFIED:20251106T180815Z
UID:44263-1763121600-1763127000@massmentors.org
SUMMARY:Info Session: Act Now for FREE Technical Assistance This Winter!
DESCRIPTION:Join us to hear about available consultation hours at no cost to you\, provided by the National Mentoring Resource Center’s no-cost extension through this winter. \n  \n  \nREGISTER
URL:https://massmentors.org/event/info-session-act-now-for-free-technical-assistance-this-winter/
LOCATION:Virtual
ORGANIZER;CN="Lauren McCabe":MAILTO:lmccabe@massmentors.org
END:VEVENT
BEGIN:VEVENT
DTSTART;TZID=America/New_York:20251118T120000
DTEND;TZID=America/New_York:20251118T130000
DTSTAMP:20260425T154700
CREATED:20250930T112636Z
LAST-MODIFIED:20250930T113252Z
UID:44095-1763467200-1763470800@massmentors.org
SUMMARY:November Lunch & Learn 2025: Introducing Mentor Circles!
DESCRIPTION:Lunch & Learn Sessions meet the 3rd Tuesday of each month from 12-1pm. This is a time for folks to tune in while eating lunch. Join us to learn more about best practices\, stay connected\, and keep up with recent research\, happenings\, and tools. We welcome you as often as you can join us! \nNovember 2025 \nJoin us to discuss and give your input on a new series of workshops from Mass Mentoring Partnership. Mentor Circles will run every third Thursday evening of most months (dates will be adjusted if holidays interfere.) Mentor Circles are virtual\, off-hours opportunities for YOUR PROGRAMS’ MENTORS to connect with other mentors\, build knowledge\, and practice skills related to being the best mentor you can be. Topics will vary. You are encouraged to share the Mentor Circles registration links with your mentors. Come to this Lunch and Learn to give some feedback and find out more! \n  \nREGISTER
URL:https://massmentors.org/event/november-lunch-learn-2025-introducing-mentor-circles/
LOCATION:Virtual
ORGANIZER;CN="Lauren McCabe":MAILTO:lmccabe@massmentors.org
END:VEVENT
BEGIN:VEVENT
DTSTART;TZID=America/New_York:20251120T173000
DTEND;TZID=America/New_York:20251120T190000
DTSTAMP:20260425T154700
CREATED:20251104T180528Z
LAST-MODIFIED:20251104T180528Z
UID:44234-1763659800-1763665200@massmentors.org
SUMMARY:Mentor Circle: Practicing Cultural Humility
DESCRIPTION:Practicing Cultural Humility: A Chapter of Becoming a Better Mentor \n  \nJoin us for a brand new offering from Mass Mentoring Partnership: Mentor Circles will run every third Thursday evening of most months (dates will be adjusted if holidays interfere.) Mentor Circles are virtual\, off-hours opportunities to connect with other mentors\, build knowledge\, and practice skills related to being the best mentor you can be. Topics will vary. You are welcome as often as you can join us. \n  \nCultural humility is an ongoing\, lifelong process of self-reflection and learning about how social identity and experiences are shaped by systems of oppression\, power\, and privilege. We consider this an especially important topic in all mentoring relationships\, even if mentors and mentees are similar in some important characteristics. Mentors with cultural humility continuously reflect on their own social identity and make efforts to learn about their mentee’s social identity\, experiences\, and background. Join us for guided reflection about the differences and similarities between mentors and mentees that are shaped by inequities in our society. Learn how cultivating this skill can help mentors overcome barriers in a relationship with a young person\, especially when approached with empathy and a growth mindset. \n  \nREGISTER
URL:https://massmentors.org/event/mentor-circle-practicing-cultural-humility/
LOCATION:Virtual
ORGANIZER;CN="Lauren McCabe":MAILTO:lmccabe@massmentors.org
END:VEVENT
END:VCALENDAR