BEGIN:VCALENDAR
VERSION:2.0
PRODID:-//Mass Mentoring Partnership - ECPv6.15.20//NONSGML v1.0//EN
CALSCALE:GREGORIAN
METHOD:PUBLISH
X-WR-CALNAME:Mass Mentoring Partnership
X-ORIGINAL-URL:https://massmentors.org
X-WR-CALDESC:Events for Mass Mentoring Partnership
REFRESH-INTERVAL;VALUE=DURATION:PT1H
X-Robots-Tag:noindex
X-PUBLISHED-TTL:PT1H
BEGIN:VTIMEZONE
TZID:America/New_York
BEGIN:DAYLIGHT
TZOFFSETFROM:-0500
TZOFFSETTO:-0400
TZNAME:EDT
DTSTART:20230312T070000
END:DAYLIGHT
BEGIN:STANDARD
TZOFFSETFROM:-0400
TZOFFSETTO:-0500
TZNAME:EST
DTSTART:20231105T060000
END:STANDARD
BEGIN:DAYLIGHT
TZOFFSETFROM:-0500
TZOFFSETTO:-0400
TZNAME:EDT
DTSTART:20240310T070000
END:DAYLIGHT
BEGIN:STANDARD
TZOFFSETFROM:-0400
TZOFFSETTO:-0500
TZNAME:EST
DTSTART:20241103T060000
END:STANDARD
BEGIN:DAYLIGHT
TZOFFSETFROM:-0500
TZOFFSETTO:-0400
TZNAME:EDT
DTSTART:20250309T070000
END:DAYLIGHT
BEGIN:STANDARD
TZOFFSETFROM:-0400
TZOFFSETTO:-0500
TZNAME:EST
DTSTART:20251102T060000
END:STANDARD
END:VTIMEZONE
BEGIN:VEVENT
DTSTART;TZID=America/New_York:20240404T093000
DTEND;TZID=America/New_York:20240404T113000
DTSTAMP:20260425T144903
CREATED:20240308T210113Z
LAST-MODIFIED:20240326T205440Z
UID:41015-1712223000-1712230200@massmentors.org
SUMMARY:The Mentoring Institute: Matching and Supporting with Care
DESCRIPTION:Learn from MMP staff and each other about the most effective practices to help mentors and mentees build and sustain successful relationships with each other. This introductory training will focus on topics ranging from communication and feedback between mentors\, mentees\, and staff on difficult issues to cultural diversity issues that arise in mentoring relationships. \n  \nREGISTER
URL:https://massmentors.org/event/the-mentoring-institute-matching-and-supporting-with-care/
LOCATION:Virtual
CATEGORIES:Training
ORGANIZER;CN="Lauren McCabe":MAILTO:lmccabe@massmentors.org
END:VEVENT
END:VCALENDAR