BEGIN:VCALENDAR
VERSION:2.0
PRODID:-//Mass Mentoring Partnership - ECPv6.15.20//NONSGML v1.0//EN
CALSCALE:GREGORIAN
METHOD:PUBLISH
X-WR-CALNAME:Mass Mentoring Partnership
X-ORIGINAL-URL:https://massmentors.org
X-WR-CALDESC:Events for Mass Mentoring Partnership
REFRESH-INTERVAL;VALUE=DURATION:PT1H
X-Robots-Tag:noindex
X-PUBLISHED-TTL:PT1H
BEGIN:VTIMEZONE
TZID:America/New_York
BEGIN:DAYLIGHT
TZOFFSETFROM:-0500
TZOFFSETTO:-0400
TZNAME:EDT
DTSTART:20230312T070000
END:DAYLIGHT
BEGIN:STANDARD
TZOFFSETFROM:-0400
TZOFFSETTO:-0500
TZNAME:EST
DTSTART:20231105T060000
END:STANDARD
BEGIN:DAYLIGHT
TZOFFSETFROM:-0500
TZOFFSETTO:-0400
TZNAME:EDT
DTSTART:20240310T070000
END:DAYLIGHT
BEGIN:STANDARD
TZOFFSETFROM:-0400
TZOFFSETTO:-0500
TZNAME:EST
DTSTART:20241103T060000
END:STANDARD
BEGIN:DAYLIGHT
TZOFFSETFROM:-0500
TZOFFSETTO:-0400
TZNAME:EDT
DTSTART:20250309T070000
END:DAYLIGHT
BEGIN:STANDARD
TZOFFSETFROM:-0400
TZOFFSETTO:-0500
TZNAME:EST
DTSTART:20251102T060000
END:STANDARD
END:VTIMEZONE
BEGIN:VEVENT
DTSTART;TZID=America/New_York:20240229T100000
DTEND;TZID=America/New_York:20240229T130000
DTSTAMP:20260425T161132
CREATED:20240116T185804Z
LAST-MODIFIED:20240206T202657Z
UID:40278-1709200800-1709211600@massmentors.org
SUMMARY:White Saviorism: Impact on Mentoring Relationships
DESCRIPTION:Mentoring relationships and programs have the power to reproduce racial inequity. Mentors and mentoring programs have a moral obligation to do no harm to the youth and families engaged in their mentoring relationships and programs. In this workshop\, participants explore what white saviorism looks like as well as the harmful impact it has on youth. Participants will develop the ability to recognize white saviorism in mentoring relationships and programs and explore concrete strategies to combat its harmful effects. \n  \nREGISTER
URL:https://massmentors.org/event/white-saviorism-asost-training/
LOCATION:Virtual
CATEGORIES:Training
ORGANIZER;CN="Janeen Smith":MAILTO:jsmith@massmentors.org
END:VEVENT
END:VCALENDAR