BEGIN:VCALENDAR
VERSION:2.0
PRODID:-//Mass Mentoring Partnership - ECPv6.15.20//NONSGML v1.0//EN
CALSCALE:GREGORIAN
METHOD:PUBLISH
X-WR-CALNAME:Mass Mentoring Partnership
X-ORIGINAL-URL:https://massmentors.org
X-WR-CALDESC:Events for Mass Mentoring Partnership
REFRESH-INTERVAL;VALUE=DURATION:PT1H
X-Robots-Tag:noindex
X-PUBLISHED-TTL:PT1H
BEGIN:VTIMEZONE
TZID:America/New_York
BEGIN:DAYLIGHT
TZOFFSETFROM:-0500
TZOFFSETTO:-0400
TZNAME:EDT
DTSTART:20230312T070000
END:DAYLIGHT
BEGIN:STANDARD
TZOFFSETFROM:-0400
TZOFFSETTO:-0500
TZNAME:EST
DTSTART:20231105T060000
END:STANDARD
BEGIN:DAYLIGHT
TZOFFSETFROM:-0500
TZOFFSETTO:-0400
TZNAME:EDT
DTSTART:20240310T070000
END:DAYLIGHT
BEGIN:STANDARD
TZOFFSETFROM:-0400
TZOFFSETTO:-0500
TZNAME:EST
DTSTART:20241103T060000
END:STANDARD
BEGIN:DAYLIGHT
TZOFFSETFROM:-0500
TZOFFSETTO:-0400
TZNAME:EDT
DTSTART:20250309T070000
END:DAYLIGHT
BEGIN:STANDARD
TZOFFSETFROM:-0400
TZOFFSETTO:-0500
TZNAME:EST
DTSTART:20251102T060000
END:STANDARD
END:VTIMEZONE
BEGIN:VEVENT
DTSTART;TZID=America/New_York:20240123T100000
DTEND;TZID=America/New_York:20240123T120000
DTSTAMP:20260425T185850
CREATED:20231128T202326Z
LAST-MODIFIED:20231128T202326Z
UID:40169-1706004000-1706011200@massmentors.org
SUMMARY:Antiracism & Storytelling: Meaning Making in Meaningful Ways
DESCRIPTION:Antiracism & Storytelling: Meaning Making in Meaningful Ways \n  \nIn this workshop\, playwright\, producer\, and PhD candidate Paul Michael Thomson empowers participants to share their stories and guides them in listening to others’. Led by the principle that one of the most powerful tools for community building is believing each others’ stories\, Paul Michael shares the historical precedent for personal narrative’s ability to break down systemic barriers. In so doing\, he creates a space where story transcends plot and hearing becomes listening. Come prepared to write\, receive\, and get curious about others! Everyone has a story. \n  \nREGISTER
URL:https://massmentors.org/event/antiracism-storytelling-meaning-making-in-meaningful-ways/
LOCATION:Virtual
CATEGORIES:Training
ORGANIZER;CN="Rosie McMahan":MAILTO:rmcmahan@massmentors.org
END:VEVENT
END:VCALENDAR