BEGIN:VCALENDAR
VERSION:2.0
PRODID:-//Mass Mentoring Partnership - ECPv6.15.20//NONSGML v1.0//EN
CALSCALE:GREGORIAN
METHOD:PUBLISH
X-ORIGINAL-URL:https://massmentors.org
X-WR-CALDESC:Events for Mass Mentoring Partnership
REFRESH-INTERVAL;VALUE=DURATION:PT1H
X-Robots-Tag:noindex
X-PUBLISHED-TTL:PT1H
BEGIN:VTIMEZONE
TZID:America/New_York
BEGIN:DAYLIGHT
TZOFFSETFROM:-0500
TZOFFSETTO:-0400
TZNAME:EDT
DTSTART:20230312T070000
END:DAYLIGHT
BEGIN:STANDARD
TZOFFSETFROM:-0400
TZOFFSETTO:-0500
TZNAME:EST
DTSTART:20231105T060000
END:STANDARD
BEGIN:DAYLIGHT
TZOFFSETFROM:-0500
TZOFFSETTO:-0400
TZNAME:EDT
DTSTART:20240310T070000
END:DAYLIGHT
BEGIN:STANDARD
TZOFFSETFROM:-0400
TZOFFSETTO:-0500
TZNAME:EST
DTSTART:20241103T060000
END:STANDARD
BEGIN:DAYLIGHT
TZOFFSETFROM:-0500
TZOFFSETTO:-0400
TZNAME:EDT
DTSTART:20250309T070000
END:DAYLIGHT
BEGIN:STANDARD
TZOFFSETFROM:-0400
TZOFFSETTO:-0500
TZNAME:EST
DTSTART:20251102T060000
END:STANDARD
END:VTIMEZONE
BEGIN:VEVENT
DTSTART;TZID=America/New_York:20240305T093000
DTEND;TZID=America/New_York:20240305T120000
DTSTAMP:20260425T144345
CREATED:20240117T154043Z
LAST-MODIFIED:20240117T154043Z
UID:40281-1709631000-1709640000@massmentors.org
SUMMARY:Social Emotional Learning ASOST Training
DESCRIPTION:We believe that when adults have stronger SEL skills\, young people will too. Building strong\, supportive relationships with young people is key to building their essential life skills. We’ll review frameworks for understanding SEL\, and share practical suggestions for implementing SEL practices with young people in a way that affirms their strengths and identities\, and helps us avoid common “equity detours” that may cause more harm than good. By focusing on our own SEL skills\, we can model and support SEL growth in young people\, helping them become thriving and engaged adults. Join us to learn more! \n  \nREGISTER
URL:https://massmentors.org/event/social-emotional-learning-asost-training/
LOCATION:Virtual
CATEGORIES:Training
ORGANIZER;CN="Lauren McCabe":MAILTO:lmccabe@massmentors.org
END:VEVENT
BEGIN:VEVENT
DTSTART;TZID=America/New_York:20240306T170000
DTEND;TZID=America/New_York:20240306T183000
DTSTAMP:20260425T144345
CREATED:20240215T202733Z
LAST-MODIFIED:20240229T221856Z
UID:40505-1709744400-1709749800@massmentors.org
SUMMARY:Peer to Peer Advocacy Training with MMP's Youth Leadership Council
DESCRIPTION:Join us for an empowering “Peer to Peer Advocacy Training” hosted by the Mass Mentoring Partnership Youth Leadership Council! \nGet ready to enhance your advocacy skills as our junior and senior leaders guide you through the ins and outs of effective advocacy. During this workshop\, you’ll dive deep into various aspects of advocacy\, including: \n🔹 Understanding the importance of youth activism \n🔹 Exploring the role of youth voice in the legislative process \n🔹 Learning how to prepare for meetings with legislators \n🔹 Gaining insights into effective communication strategies \n🔹 Discovering ways to advocate for mentoring relationships and other meaningful causes \nBe prepared to make a difference as we gear up for Youth Mentoring Day on March 21st\, 2024 taking place at the State House. \nDon’t miss out on this opportunity to educate\, inspire\, and empower each other to advocate for causes that matter to us. Let’s ignite change together! \nThe workshop will be led by our very own Youth Leaders who are passionate about making a difference. \nSee you there! \n  \nREGISTER
URL:https://massmentors.org/event/peer-to-peer-advocacy-training-with-mmps-youth-leadership-council/
LOCATION:Virtual
CATEGORIES:Advocacy,Training
END:VEVENT
BEGIN:VEVENT
DTSTART;TZID=America/New_York:20240329T130000
DTEND;TZID=America/New_York:20240329T143000
DTSTAMP:20260425T144345
CREATED:20240117T162034Z
LAST-MODIFIED:20240123T175312Z
UID:40283-1711717200-1711722600@massmentors.org
SUMMARY:Beyond Imposter Syndrome: Dismantling Internalized Oppression with Collective Accountability
DESCRIPTION:Addressing internalized oppression is essential for generating systemic change\, as it drives marginalized communities to believe and uphold the negative messages and stereotypes used to oppress them. This training aims to identify and address the manifestation of internalized oppression\, particularly through imposter syndrome\, which results in self-doubt\, shame\, and other negative emotions that hinder personal and professional growth. Viewing this issue through a collective accountability lens\, participants will embrace healing and transformation by voicing the changes they wish to experience within their organization. \n  \nBy the end of the workshop\, participants will have \n• Examined the link between internalized oppression and imposter syndrome. \n• Shared their beliefs\, values\, or perceptions about their worth\, leadership\, and productivity. \n• Selected the systemic changes they desire in their organizational practices. \n• Brainstormed strategies to advocate for the organizational changes they desire. \n  \nREGISTER
URL:https://massmentors.org/event/beyond-imposter-syndrome-dismantling-internalized-oppression-with-collective-accountability/
LOCATION:Virtual
CATEGORIES:Health and Wellness,Training
ORGANIZER;CN="Rosie McMahan":MAILTO:rmcmahan@massmentors.org
END:VEVENT
END:VCALENDAR