BEGIN:VCALENDAR
VERSION:2.0
PRODID:-//Mass Mentoring Partnership - ECPv6.15.20//NONSGML v1.0//EN
CALSCALE:GREGORIAN
METHOD:PUBLISH
X-ORIGINAL-URL:https://massmentors.org
X-WR-CALDESC:Events for Mass Mentoring Partnership
REFRESH-INTERVAL;VALUE=DURATION:PT1H
X-Robots-Tag:noindex
X-PUBLISHED-TTL:PT1H
BEGIN:VTIMEZONE
TZID:America/New_York
BEGIN:DAYLIGHT
TZOFFSETFROM:-0500
TZOFFSETTO:-0400
TZNAME:EDT
DTSTART:20220313T070000
END:DAYLIGHT
BEGIN:STANDARD
TZOFFSETFROM:-0400
TZOFFSETTO:-0500
TZNAME:EST
DTSTART:20221106T060000
END:STANDARD
BEGIN:DAYLIGHT
TZOFFSETFROM:-0500
TZOFFSETTO:-0400
TZNAME:EDT
DTSTART:20230312T070000
END:DAYLIGHT
BEGIN:STANDARD
TZOFFSETFROM:-0400
TZOFFSETTO:-0500
TZNAME:EST
DTSTART:20231105T060000
END:STANDARD
BEGIN:DAYLIGHT
TZOFFSETFROM:-0500
TZOFFSETTO:-0400
TZNAME:EDT
DTSTART:20240310T070000
END:DAYLIGHT
BEGIN:STANDARD
TZOFFSETFROM:-0400
TZOFFSETTO:-0500
TZNAME:EST
DTSTART:20241103T060000
END:STANDARD
END:VTIMEZONE
BEGIN:VTIMEZONE
TZID:America/Chicago
BEGIN:DAYLIGHT
TZOFFSETFROM:-0600
TZOFFSETTO:-0500
TZNAME:CDT
DTSTART:20210314T080000
END:DAYLIGHT
BEGIN:STANDARD
TZOFFSETFROM:-0500
TZOFFSETTO:-0600
TZNAME:CST
DTSTART:20211107T070000
END:STANDARD
BEGIN:DAYLIGHT
TZOFFSETFROM:-0600
TZOFFSETTO:-0500
TZNAME:CDT
DTSTART:20220313T080000
END:DAYLIGHT
BEGIN:STANDARD
TZOFFSETFROM:-0500
TZOFFSETTO:-0600
TZNAME:CST
DTSTART:20221106T070000
END:STANDARD
BEGIN:DAYLIGHT
TZOFFSETFROM:-0600
TZOFFSETTO:-0500
TZNAME:CDT
DTSTART:20230312T080000
END:DAYLIGHT
BEGIN:STANDARD
TZOFFSETFROM:-0500
TZOFFSETTO:-0600
TZNAME:CST
DTSTART:20231105T070000
END:STANDARD
END:VTIMEZONE
BEGIN:VEVENT
DTSTART;TZID=America/New_York:20230301T100000
DTEND;TZID=America/New_York:20230301T113000
DTSTAMP:20260425T084824
CREATED:20230202T151520Z
LAST-MODIFIED:20230209T202600Z
UID:38646-1677664800-1677670200@massmentors.org
SUMMARY:MMP Connects in Northern MA - Regional Networking Meeting
DESCRIPTION:Calling all youth-serving professionals!! \nJoin us for the “MMP Connects Regional Meeting” on March 1st from 10-11:30 AM! \nWhat’s in store for the mentoring movement in 2023? We’re giving you the scoop during our regional kick-off networking meetings. In addition to networking and professional development activities\, the event will feature a sneak peek at Mass Mentoring Partnership’s calendar outlining major opportunities and resources for advancing your professional development\, enhancing and/or growing services\, and more. \nThis is an invitation from Mass Mentoring Partnership\, a statewide organization\, to all Northern Mass Youth Development Organizations! Whether you’re already part of our network or not\, come learn more about what we have to offer and discover the future of the mentoring movement in 2023. \nWe are providing an opportunity for programs to network\, as it is important for advancing our work and supporting each other. Our regional kick-off meetings will include professional development activities\, a sneak peek at Mass Mentoring Partnership’s 2023 calendar\, and the chance to connect with other youth-serving professionals. \nFor more information\, please contact Beth Fraster at bfraster@massmentors.org \n  \nThis meeting is for youth-serving professionals located in Northern Massachusetts. \nOther Regional Meetings: \n2/16/23 – Central MA (Worcester location) \n2/28/23 – South Coast MA (Brockton location) \n3/1/23 – Northern MA (Lynn location) \n3/2/23 – Boston/Greater Boston (TBA Downtown Boston) \n3/7/23 – Western MA (Holyoke location) \n\n  \nREGISTER
URL:https://massmentors.org/event/mmp-connects-in-northern-ma-regional-networking-meeting/
LOCATION:Raw Art Works\, 37 Central Square\, Lynn\, MA\, 01901\, United States
CATEGORIES:Information Session,Network
ORGANIZER;CN="Beth Fraster":MAILTO:bfraster@massmentors.org
END:VEVENT
BEGIN:VEVENT
DTSTART;TZID=America/New_York:20230216T100000
DTEND;TZID=America/New_York:20230216T113000
DTSTAMP:20260425T084824
CREATED:20230202T145854Z
LAST-MODIFIED:20230209T202927Z
UID:38639-1676541600-1676547000@massmentors.org
SUMMARY:MMP Connects in Central MA - Regional Networking Meeting
DESCRIPTION:Calling all youth-serving professionals!!  \nJoin us for the MMP Connects Regional Meeting on February 16th from 10-11:30 AM! \nWhat’s in store for the mentoring movement in 2023? We’re giving you the scoop during our regional kick-off networking meetings. In addition to networking and professional development activities\, the event will feature a sneak peek at Mass Mentoring Partnership’s calendar outlining major opportunities and resources for advancing your professional development\, enhancing and/or growing services\, and more. \nThis is an invitation from Mass Mentoring Partnership\, a statewide organization\, to all Central Mass Youth Development Organizations! Whether you’re already part of our network or not\, come learn more about what we have to offer and discover the future of the mentoring movement in 2023. \nWe are providing an opportunity for programs to network\, as it is important for advancing our work and supporting each other. Our regional kick-off meetings will include professional development activities\, a sneak peek at Mass Mentoring Partnership’s 2023 calendar\, and the chance to connect with other youth-serving professionals. \n  \nFor more information\, please contact Lauren McCabe at lmccabe@massmentors.org \n  \nThis meeting is for youth-serving professionals located in Central Massachusetts. \nOther Regional Meetings: \n2/16/23 – Central MA (Worcester location) \n2/28/23 – South Coast MA (Brockton location) \n3/1/23 – Northern MA (Lynn location) \n3/2/23 – Boston/Greater Boston (TBA Downtown Boston) \n3/7/23 – Western MA (Holyoke location) \n\n  \nREGISTER
URL:https://massmentors.org/event/mmp-connects-in-central-ma-regional-networking-meeting/
LOCATION:Worcester YWCA\, 1 Salem Street\, Worcester\, MA\, 01608\, United States
CATEGORIES:Information Session,Network
ORGANIZER;CN="Lauren McCabe":MAILTO:lmccabe@massmentors.org
END:VEVENT
BEGIN:VEVENT
DTSTART;TZID=America/Chicago:20221110T110000
DTEND;TZID=America/Chicago:20221110T200000
DTSTAMP:20260425T084824
CREATED:20220426T145229Z
LAST-MODIFIED:20221012T202119Z
UID:33841-1668078000-1668110400@massmentors.org
SUMMARY:Journey to 30 Symposium & Celebration: Centering Equity & Belonging in Youth-Adult Relationships
DESCRIPTION:Visit the Journey to 30 web page . Registration is now live! \n  \nSymposium tickets $100 \nCelebration tickets $200 \nFull day tickets $300
URL:https://massmentors.org/event/journey-to-30-event/
LOCATION:Encore Boston Harbor\, 1 Broadway\, Everett\, MA\, 02149\, United States
CATEGORIES:Fundraiser,Network,Training
ORGANIZER;CN="Amanda Doyle Bouvier":MAILTO:adoylebouvier@massmentors.org
END:VEVENT
BEGIN:VEVENT
DTSTART;TZID=America/Chicago:20220629T100000
DTEND;TZID=America/Chicago:20220629T113000
DTSTAMP:20260425T084824
CREATED:20220525T182801Z
LAST-MODIFIED:20220525T190251Z
UID:36108-1656496800-1656502200@massmentors.org
SUMMARY:Mass Mentoring Counts 2022 Networking Session Follow Up
DESCRIPTION:We invite everyone to engage in a meaningful conversation with our network of programs and stakeholders  as we dive a bit deeper into the data and share thoughts and observations.   \nThis Networking Session is a follow up to the June 22 Data Release Session and the Mass Mentoring Counts Data Release Report.  There will be opportunities to share strategies\, ask questions\, and provide feedback.  \n  \nREGISTER FOR FOLLOW UP NETWORKING SESSION  \n  \n 
URL:https://massmentors.org/event/mass-mentoring-counts-2022-networking-session/
LOCATION:Zoom
CATEGORIES:Network
ORGANIZER;CN="Beth Fraster":MAILTO:bfraster@massmentors.org
END:VEVENT
BEGIN:VEVENT
DTSTART;TZID=America/Chicago:20220622T100000
DTEND;TZID=America/Chicago:20220622T110000
DTSTAMP:20260425T084824
CREATED:20220426T145010Z
LAST-MODIFIED:20220525T190736Z
UID:33837-1655892000-1655895600@massmentors.org
SUMMARY:Mass Mentoring Counts 2022
DESCRIPTION:Please join us as we present the important results of the 2022 Mass Mentoring Counts survey. Since its beginning in 2006\, this biennial survey has provided a snapshot of the state of structured mentoring programs in Massachusetts. This year’s study focuses on the impact that the COVID 19 pandemic has had on mentoring relationships in the Commonwealth\, and it provides a detailed look into how the pandemic has affected structured mentoring programs–their staff\, their mentors\, the young people they serve\, and their financial security.\n\n\nHere’s a preview of what to expect:\n\n\n\n\nJill Capitani\, Research Manager from the UMass Donahue Institute\, will present the results of the Mass Mentoring Counts Survey.\nA panel of local experts will offer their perspective on the data and how it should inform efforts to support programs as they adjust to new ways of mentoring and strengthening relationships in the wake of the pandemic.\nThere will be an opportunity to ask questions about the data and findings.\nWe will be holding a follow up NETWORKING SESSION on Wednesday\, June 29\, from 10:00 am – 11:30 am to provide time to dive a bit deeper into the data and share thoughts and observations. We invite everyone to engage in a meaningful conversation with our network of programs and stakeholders. There will be opportunities to share strategies\, ask questions\, and provide feedback.\n\n\n\nREGISTER FOR MASS MENTORING COUNTS SURVEY PRESENTATION\n\n \nREGISTER FOR FOLLOW UP NETWORKING SESSION\n\n\n  \n\n\n\n\nFor more information\, please contact Beth Fraster\, VP/Chief Program Officer. We hope you can join us for this important conversation that will illuminate the challenges facing young people and the mentoring and youth-serving programs who support them.
URL:https://massmentors.org/event/mass-mentoring-counts/
LOCATION:Webinar
CATEGORIES:Network
ATTACH;FMTTYPE=image/jpeg:https://massmentors.org/wp-content/uploads/2022/05/MMP_MentoringCounts_CCv5_2022.jpg
ORGANIZER;CN="Beth Fraster":MAILTO:bfraster@massmentors.org
END:VEVENT
BEGIN:VEVENT
DTSTART;TZID=America/Chicago:20220516T180000
DTEND;TZID=America/Chicago:20220516T213000
DTSTAMP:20260425T084824
CREATED:20220422T195926Z
LAST-MODIFIED:20220524T175554Z
UID:33603-1652724000-1652736600@massmentors.org
SUMMARY:Mentoring Night at Fenway Park
DESCRIPTION:Mass Mentoring Partnership holds its largest community engagement event at Fenway Park on May 16th at 6 pm.
URL:https://massmentors.org/event/mentoring-night-at-fenway-park/
LOCATION:MA
CATEGORIES:Network
END:VEVENT
END:VCALENDAR