BEGIN:VCALENDAR
VERSION:2.0
PRODID:-//Mass Mentoring Partnership - ECPv6.15.20//NONSGML v1.0//EN
CALSCALE:GREGORIAN
METHOD:PUBLISH
X-WR-CALNAME:Mass Mentoring Partnership
X-ORIGINAL-URL:https://massmentors.org
X-WR-CALDESC:Events for Mass Mentoring Partnership
REFRESH-INTERVAL;VALUE=DURATION:PT1H
X-Robots-Tag:noindex
X-PUBLISHED-TTL:PT1H
BEGIN:VTIMEZONE
TZID:America/New_York
BEGIN:DAYLIGHT
TZOFFSETFROM:-0500
TZOFFSETTO:-0400
TZNAME:EDT
DTSTART:20230312T070000
END:DAYLIGHT
BEGIN:STANDARD
TZOFFSETFROM:-0400
TZOFFSETTO:-0500
TZNAME:EST
DTSTART:20231105T060000
END:STANDARD
BEGIN:DAYLIGHT
TZOFFSETFROM:-0500
TZOFFSETTO:-0400
TZNAME:EDT
DTSTART:20240310T070000
END:DAYLIGHT
BEGIN:STANDARD
TZOFFSETFROM:-0400
TZOFFSETTO:-0500
TZNAME:EST
DTSTART:20241103T060000
END:STANDARD
BEGIN:DAYLIGHT
TZOFFSETFROM:-0500
TZOFFSETTO:-0400
TZNAME:EDT
DTSTART:20250309T070000
END:DAYLIGHT
BEGIN:STANDARD
TZOFFSETFROM:-0400
TZOFFSETTO:-0500
TZNAME:EST
DTSTART:20251102T060000
END:STANDARD
END:VTIMEZONE
BEGIN:VEVENT
DTSTART;TZID=America/New_York:20240925T100000
DTEND;TZID=America/New_York:20240925T120000
DTSTAMP:20260425T062453
CREATED:20240815T154502Z
LAST-MODIFIED:20240916T165610Z
UID:42330-1727258400-1727265600@massmentors.org
SUMMARY:MMP Connects Regional Meetings - BOSTON/GREATER BOSTON - Fall 2024
DESCRIPTION:MMP Connect Regional Meetings\nBeyond providing a platform for networking and fostering professional development\, this event offers an exclusive sneak peek into Mass Mentoring Partnership’s upcoming calendar. Unveiling a wealth of valuable opportunities and resources tailored to advance your professional journey and enhance your services\, this preview is not to be missed. Additionally\, organizations will have ample chance for face-to-face networking and collaboration. \nRegister for the region you wish to attend (IN PERSON)!\n  \nREGISTER\n  \nBoston/Greater Boston: Wednesday\, September 25th at Partners for Youth with Disabilities (PYD)\, 89 South St. Suite 103\, Boston. \nSouthern Mass: Thursday\, September 26th\, at Old Colony Y YOUTH DIVISION\, 465 Main Street\, Brockton. \nNorthern Mass: Wednesday\, October 2nd\, at YDO\, 15 Union St Ste 500\, Lawrence\, MA 01840 \nWestern/Central Mass: Wednesday\, October 9th\, at Holyoke Public Library\, 250 Chestnut St\, Holyoke\, MA 01040. \nEach event will be from 10:00AM – 12:00PM **
URL:https://massmentors.org/event/mmp-connects-regional-meetings-fall-2024/
LOCATION:Partners for Youth with Disabilities\, 89 South Street Suite 103\, Boston\, MA\, 02111\, United States
CATEGORIES:Network
ORGANIZER;CN="Natalie Spriggs":MAILTO:nspriggs@massmentors.org
END:VEVENT
END:VCALENDAR