BEGIN:VCALENDAR
VERSION:2.0
PRODID:-//Mass Mentoring Partnership - ECPv6.15.20//NONSGML v1.0//EN
CALSCALE:GREGORIAN
METHOD:PUBLISH
X-WR-CALNAME:Mass Mentoring Partnership
X-ORIGINAL-URL:https://massmentors.org
X-WR-CALDESC:Events for Mass Mentoring Partnership
REFRESH-INTERVAL;VALUE=DURATION:PT1H
X-Robots-Tag:noindex
X-PUBLISHED-TTL:PT1H
BEGIN:VTIMEZONE
TZID:America/New_York
BEGIN:DAYLIGHT
TZOFFSETFROM:-0500
TZOFFSETTO:-0400
TZNAME:EDT
DTSTART:20230312T070000
END:DAYLIGHT
BEGIN:STANDARD
TZOFFSETFROM:-0400
TZOFFSETTO:-0500
TZNAME:EST
DTSTART:20231105T060000
END:STANDARD
BEGIN:DAYLIGHT
TZOFFSETFROM:-0500
TZOFFSETTO:-0400
TZNAME:EDT
DTSTART:20240310T070000
END:DAYLIGHT
BEGIN:STANDARD
TZOFFSETFROM:-0400
TZOFFSETTO:-0500
TZNAME:EST
DTSTART:20241103T060000
END:STANDARD
BEGIN:DAYLIGHT
TZOFFSETFROM:-0500
TZOFFSETTO:-0400
TZNAME:EDT
DTSTART:20250309T070000
END:DAYLIGHT
BEGIN:STANDARD
TZOFFSETFROM:-0400
TZOFFSETTO:-0500
TZNAME:EST
DTSTART:20251102T060000
END:STANDARD
END:VTIMEZONE
BEGIN:VEVENT
DTSTART;TZID=America/New_York:20240502T100000
DTEND;TZID=America/New_York:20240502T120000
DTSTAMP:20260425T123703
CREATED:20240403T152517Z
LAST-MODIFIED:20240403T153537Z
UID:41314-1714644000-1714651200@massmentors.org
SUMMARY:MMP Connects Regional Meetings: Forward Together – NORTHERN MA
DESCRIPTION:MMP Connect Regional Meetings  \nForward Together: Empowering Connections and Welcoming Our New Leadership at Mass Mentoring Partnership \n  \nThe Mass Mentoring team is buzzing with anticipation as we wrap up the school season. Join us for an engaging session at the MMP Connects Regional Meeting\, where we’ll meet MMP’s new CEO & President. This will be a listening tour on what is working well for MMP partner organizations as well as challenges organizations are facing in the Commonwealth and how this all profoundly impacts on our work with young people. \nBeyond providing a platform for networking and fostering professional development\, this event offers an exclusive sneak peek into Mass Mentoring Partnership’s upcoming calendar. Unveiling a wealth of valuable opportunities and resources tailored to advance your professional journey and enhance your services\, this preview is not to be missed. Additionally\, organizations will have ample chance for face-to-face networking and collaboration. \nREGISTER\nRegister for the region you wish to attend (IN PERSON)!\nWednesday\, May 1st: Boston/Greater Boston – Huntington Avenue YMCA\, 316 Huntington Ave\, Boston MA 02115 \nThursday\, May 2nd: Northern Mass – YMCA of Metro North\, 20 Neptune Blvd\, Lynn MA 01902 \nTuesday\, May 7th: Southern Mass – Crossroads’ Camp Wing\, 47 Myrtle Street\, Duxbury MA 02332 \nThursday\, May 9th: Western/Central Mass – Holyoke Public Library\, 250 Chestnut St\, Holyoke MA 01040 \nEach event will be from 10:00AM – 12:00PM ** \n 
URL:https://massmentors.org/event/mmp-connects-regional-meetings-forward-together-northern-ma/
CATEGORIES:Network
ORGANIZER;CN="Natalie Spriggs":MAILTO:nspriggs@massmentors.org
END:VEVENT
END:VCALENDAR