BEGIN:VCALENDAR
VERSION:2.0
PRODID:-//Mass Mentoring Partnership - ECPv6.15.20//NONSGML v1.0//EN
CALSCALE:GREGORIAN
METHOD:PUBLISH
X-WR-CALNAME:Mass Mentoring Partnership
X-ORIGINAL-URL:https://massmentors.org
X-WR-CALDESC:Events for Mass Mentoring Partnership
REFRESH-INTERVAL;VALUE=DURATION:PT1H
X-Robots-Tag:noindex
X-PUBLISHED-TTL:PT1H
BEGIN:VTIMEZONE
TZID:America/New_York
BEGIN:DAYLIGHT
TZOFFSETFROM:-0500
TZOFFSETTO:-0400
TZNAME:EDT
DTSTART:20220313T070000
END:DAYLIGHT
BEGIN:STANDARD
TZOFFSETFROM:-0400
TZOFFSETTO:-0500
TZNAME:EST
DTSTART:20221106T060000
END:STANDARD
BEGIN:DAYLIGHT
TZOFFSETFROM:-0500
TZOFFSETTO:-0400
TZNAME:EDT
DTSTART:20230312T070000
END:DAYLIGHT
BEGIN:STANDARD
TZOFFSETFROM:-0400
TZOFFSETTO:-0500
TZNAME:EST
DTSTART:20231105T060000
END:STANDARD
BEGIN:DAYLIGHT
TZOFFSETFROM:-0500
TZOFFSETTO:-0400
TZNAME:EDT
DTSTART:20240310T070000
END:DAYLIGHT
BEGIN:STANDARD
TZOFFSETFROM:-0400
TZOFFSETTO:-0500
TZNAME:EST
DTSTART:20241103T060000
END:STANDARD
BEGIN:DAYLIGHT
TZOFFSETFROM:-0500
TZOFFSETTO:-0400
TZNAME:EDT
DTSTART:20250309T070000
END:DAYLIGHT
BEGIN:STANDARD
TZOFFSETFROM:-0400
TZOFFSETTO:-0500
TZNAME:EST
DTSTART:20251102T060000
END:STANDARD
END:VTIMEZONE
BEGIN:VEVENT
DTSTART;TZID=America/New_York:20240919T100000
DTEND;TZID=America/New_York:20240919T120000
DTSTAMP:20260424T091503
CREATED:20240815T154144Z
LAST-MODIFIED:20240910T155440Z
UID:42327-1726740000-1726747200@massmentors.org
SUMMARY:Day 1: Importance of Healing for Our Well-being: Trauma Informed Practices
DESCRIPTION:Day 1: Importance of Healing for Our Well-being: Trauma Informed Practices \nTrauma Informed Practices: \nMany youth in our communities have experienced trauma\, the effects of which can be long-lasting and significant and can create barriers to forming relationships with supportive adults. This training includes a review of key terms and language and shares trauma-informed care practices and methods which can be employed to promote both resiliency and self-care. With a better understanding of trauma and its impact on youth\, staff can structure programming that leverages the resilience possessed by youth and promotes healing environments. \nImportance of Healing for Our Well-being: For Us & the Youth We Serve \nTrauma and healing series in Brockton. \n  \nREGISTER\n  \n1. Trauma Informed Care on Sept. 19 in person 10am-12pm \n2. Healing on Oct. 10 virtual 10-11:30am \n3. Mental Health on Nov. 14 in person 10am-12pm \n4. Well-being on Dec. 12 virtual 10-11am
URL:https://massmentors.org/event/day-1-importance-of-healing-for-our-well-being-trauma-informed-practices/
LOCATION:Ifsi\, 863 Crescent Street\, Brockton\, MA\, 02302\, United States
CATEGORIES:Health and Wellness,Training
ORGANIZER;CN="Rosie McMahan":MAILTO:rmcmahan@massmentors.org
END:VEVENT
BEGIN:VEVENT
DTSTART;TZID=America/New_York:20240720T100000
DTEND;TZID=America/New_York:20240720T160000
DTSTAMP:20260424T091503
CREATED:20240523T202950Z
LAST-MODIFIED:20240626T174741Z
UID:41673-1721469600-1721491200@massmentors.org
SUMMARY:JoyFest Summit: Mentoring Black and Brown Girls & Femmes
DESCRIPTION:Join Mass Mentoring Partnership for this celebration of Black & Brown Joy for our Mentoring Black and Brown Girls & Femmes Summit where we empower Black and Brown women\, girls\, and femmes through wellness\, self confidence and community building. \nThe JoyFest Summit is for any self-identified BIPOC women\, girls\, & femmes ages 12 years or older in mentoring relationships with each other (either formal or informal). JoyFest will include wellness stations (including areas of fashion/style\, hair care\, skin care\, yoga\, meditation\, and storytelling/poetry)\, brunch\, magic bags full of fun items to take home\, a motivational speaker\, and a live DJ dance party. This day will be full of jubilation and celebration! \n  \nOn Saturday\, July 20\, from 10am-4pm\, join Mass Mentoring Partnership at the Stoughton YMCA (445 Central St.\, Stoughton MA)   for this FREE celebration of Black & brown Joy for our Mentoring Black and brown Girls & Femmes JoyFest Summit where we empower Black and brown women\, girls\, and femmes through wellness\, self confidence and community building. The JoyFest Summit is for any self-identified BIPOC women\, girls\, & femmes ages 12 year or older in mentoring relationships with each other (either formal or informal). JoyFest will include wellness stations (including areas of fashion/style\, hair care\, skin care\, yoga\, meditation\, and storytelling/poetry)\, brunch\, magic bags full of fun items to take home\, a motivational speaker\, and a live DJ dance party. This day will be full of jubilation and celebration! \n\n\nAt MMP\, we believe all children should have the mentoring relationships they need to become thriving adults\, resulting in vibrant communities. JoyFest has three goals: \n\n\n\nFor Black and brown girls’ & femmes’ access to the tools & resources to increase their self-worth \n\n\nFor Black and brown women and girls’ & femmes’ to find and build community with each other\, fostering mentoring relationships \n\n\nFor Black and brown women and girls’ & femmes’ to celebrate joy \n\n\nTo achieve these goals\, wellness stations will lead these women and girls through exciting activities that align with the following themes: \n\n\n\n\nLoving being Black and brown \n\n\nBeing joyful and playful \n\n\nExploring intersectionality \n\n\nSetting and achieving goals \n\n\nCultivating self-expression \n\n\nConnecting with family\, friends\, supporters\, and mentors \n\n\nPracticing self-care and wellness \n\n\nBeing aware of mental health \n\n\n\n\nThis event is a great match activity event for BIPOC women\, girls\, and femmes!! For more information on MMP’s Mentoring Black and brown Girls & Femmes Movement\, please see our information page here. \n\n\nThis registration form is for all BIPOC women\, girls\, & femmes who would like to attend this event. This form contains registrations for up to five adults and five young people. If you have more than five\, please start a new form. Limit to 5 adults and 5 young people per registration form.\n\nOne adult (18 or older) must attend with each group of young people (12-17 years old). Participation is for all attendees. Please email NSpriggs@MassMentors.org with any questions.\n\n  \nREGISTER\n  \nInterested in leading a wellness station? Apply here to lead a wellness station!
URL:https://massmentors.org/event/joyfest-summit-mentoring-black-and-brown-girls-femmes/
LOCATION:Stoughton YMCA\, 445 Central St\, Stoughton\, MA\, 02072\, United States
CATEGORIES:Health and Wellness
ORGANIZER;CN="Natalie Spriggs":MAILTO:nspriggs@massmentors.org
END:VEVENT
BEGIN:VEVENT
DTSTART;TZID=America/New_York:20240617T080000
DTEND;TZID=America/New_York:20240617T170000
DTSTAMP:20260424T091503
CREATED:20240603T175101Z
LAST-MODIFIED:20240603T175101Z
UID:41814-1718611200-1718643600@massmentors.org
SUMMARY:DEADLINE: JoyFest Wellness Station Leader Inquiry
DESCRIPTION:Wellness Station Leader Interest Form: Mentoring Black and Brown Girls & Femmes Movement \n\n\nPlease fill out this form if you are interested in being a wellness station leader for Mass Mentoring Partnership’s JoyFest Summit at the Stoughton YMCA (445 Central St.\, Stoughton MA) as part of our Mentoring Black and brown Girls & Femmes Movement on Saturday\, July 20\, 2024 . \n\nInterest forms are due by 5pm\, June 17\, 2024.  \n\nWe are looking for wellness station leaders to share their knowledge and joy in an area around wellness. We are looking for BIPOC women/femmes to share their love for wellness\, including areas of fashion/style\, hair care\, skin care\, yoga\, meditation\, and storytelling/poetry. We are hoping you would be willing to lead a wellness workshop.\n\nOur JoyFest Summit is on Saturday\, July 20\, from 10am-4pm\, at Stoughton YMCA\, with wellness stations running from 11:15am-3:15pm. We will have four stations that groups of 25 women/girls/femmes ages 12 and older will participate in\, rotating in their same groups\, four times throughout this time\, for 30 minute workshops. \nWhat we need from you: \n\n\nCreate and lead one 30 minute wellness station \n\n\nLead your station four times (same workshop\, for 4 different groups) \n\n\nWellness stations run for 30 minutes with 15 minute breaks in between each and lunch after the first 2 rotations (hour lunch) \n\n\nArrive by 10:30am to set up your station\, in one designated room (where you would lead all four of your wellness stations) \n\n\nClean up your station after the last session (ends by 3:15pm) \n\n\nProvide any materials used for your station; please let us know if you will need reimbursed for materials or if they will be in-kind \n\n\nWhat you get: \n\n\nYou (and your company if applicable) shared on all of Mass Mentoring social media platforms and listed in all of our advertising materials \n\n\n$250 stipend for leading four workshops \n\n\nProfessional photos from your wellness station for you to use in your own materials \n\n\nChance to network women/girls/femmes from all over MA\, some of whom are leaders in youth serving organizations \n\n\nTo be a part of an amazing movement that lifts the joy of Black & brown women/girls/femmes! \n\n\nWe are looking for station leaders to commit to their stations by 5pm Monday June 17\, 2024\, so please let us know by then! Please note that if we have several folks asking to lead the same workshop\, we can only choose one. You will know by the end of the day June 18\, if your wellness station was chosen. \nIf you are interested in leading a wellness station\, please fill out this interest form. Again\, we will let you know by June 18 if your station was picked (or not). \nIf you would like to learn more about the Mentoring Black and brown Girls & Femmes Movement\, you can go here for MMP’s landing page about it. We are also happy to connect and chat through any questions you may have before committing. Please reach out to Natalie at NSpriggs@MassMentors.org with questions and/or you would like to meet. \nThank you so much for all that you do! We hope to hear from you soon and that you can join our JoyFest summit team!! \n\nFill Out the Interest Form
URL:https://massmentors.org/event/deadline-joyfest-wellness-station-leader-inquiry/
LOCATION:MA
CATEGORIES:Deadline,Health and Wellness
ORGANIZER;CN="Natalie Spriggs":MAILTO:nspriggs@massmentors.org
END:VEVENT
BEGIN:VEVENT
DTSTART;TZID=America/New_York:20240604T120000
DTEND;TZID=America/New_York:20240604T150000
DTSTAMP:20260424T091503
CREATED:20240509T180116Z
LAST-MODIFIED:20240513T171832Z
UID:41429-1717502400-1717513200@massmentors.org
SUMMARY:Social Emotional Learning - Brockton
DESCRIPTION:At this training you’ll gain valuable insights into how SEL can help students develop skills essential for success in school\, career\, and life. At the heart of this training is the understanding that building strong\, supportive relationships with students is key to promoting their social and emotional wellbeing. Our trainer will provide you with a framework for understanding SEL and share practical suggestions for implementing SEL practices in out-of-school-time (OST) settings. By focusing on our own social and emotional skills\, we can model and support SEL growth in young people\, helping them become thriving and engaged adults. \nThis training is in person at SABURA Youth Program\, Inc. in Brockton MA. \nREGISTER
URL:https://massmentors.org/event/social-emotional-learning-for-brockton-youth-serving-organizations/
LOCATION:SABURA Youth Program\, Inc.\, 20 Union Street\, Brockton\, MA\, 02301\, United States
CATEGORIES:Health and Wellness,Training
ORGANIZER;CN="Natalie Spriggs":MAILTO:nspriggs@massmentors.org
END:VEVENT
BEGIN:VEVENT
DTSTART;TZID=America/New_York:20240515T160000
DTEND;TZID=America/New_York:20240515T180000
DTSTAMP:20260424T091503
CREATED:20240403T163509Z
LAST-MODIFIED:20240423T150139Z
UID:41325-1715788800-1715796000@massmentors.org
SUMMARY:Forest Bathing Walk
DESCRIPTION:A 2-hour spring walk with Todd Lynch! \nTodd is a certified Forest and Nature Therapy guide. He received this credential through the Association of Forest and Nature Therapy training program. It is a 6-month intensive course that includes pre- requisites in Wilderness First Aid/CPR as well as native plant identification. As an artist and landscape designer\, Todd has collaborated on healing gardens\, native\, medicinal plantings and art installations across the US. He lives in Western Massachusetts. He has received multiple Massachusetts Cultural Council grants for environmental art installation and education. Todd has also lectured at universities\, garden organizations and apothecaries about medicinal plants in the landscape and has served as a design critic at the Conway School of Landscape Design\, Smith College and UMass Amherst. He blogs about the intersections of landscape\, wellness and art on Instagram @ecotropy. \nLocation in person\, Hampden County area. \nLook Memorial Park \n300 North Main Street Northampton\, MA 01062 \nREGISTER
URL:https://massmentors.org/event/forest-bathing-walk/
LOCATION:Look Memorial Park\, 300 North Main Street\, Northampton\, MA\, 01062\, United States
CATEGORIES:Health and Wellness
ORGANIZER;CN="Rosie McMahan":MAILTO:rmcmahan@massmentors.org
END:VEVENT
BEGIN:VEVENT
DTSTART;TZID=America/New_York:20240329T130000
DTEND;TZID=America/New_York:20240329T143000
DTSTAMP:20260424T091503
CREATED:20240117T162034Z
LAST-MODIFIED:20240123T175312Z
UID:40283-1711717200-1711722600@massmentors.org
SUMMARY:Beyond Imposter Syndrome: Dismantling Internalized Oppression with Collective Accountability
DESCRIPTION:Addressing internalized oppression is essential for generating systemic change\, as it drives marginalized communities to believe and uphold the negative messages and stereotypes used to oppress them. This training aims to identify and address the manifestation of internalized oppression\, particularly through imposter syndrome\, which results in self-doubt\, shame\, and other negative emotions that hinder personal and professional growth. Viewing this issue through a collective accountability lens\, participants will embrace healing and transformation by voicing the changes they wish to experience within their organization. \n  \nBy the end of the workshop\, participants will have \n• Examined the link between internalized oppression and imposter syndrome. \n• Shared their beliefs\, values\, or perceptions about their worth\, leadership\, and productivity. \n• Selected the systemic changes they desire in their organizational practices. \n• Brainstormed strategies to advocate for the organizational changes they desire. \n  \nREGISTER
URL:https://massmentors.org/event/beyond-imposter-syndrome-dismantling-internalized-oppression-with-collective-accountability/
LOCATION:Virtual
CATEGORIES:Health and Wellness,Training
ORGANIZER;CN="Rosie McMahan":MAILTO:rmcmahan@massmentors.org
END:VEVENT
BEGIN:VEVENT
DTSTART;TZID=America/New_York:20240111T100000
DTEND;TZID=America/New_York:20240111T130000
DTSTAMP:20260424T091503
CREATED:20231128T194619Z
LAST-MODIFIED:20231128T194619Z
UID:40164-1704967200-1704978000@massmentors.org
SUMMARY:Social Emotional Learning - Falmouth MA
DESCRIPTION:Social Emotional Learning (SEL) Training: Join us at our Social Emotional Learning (SEL) training\, where you’ll gain valuable insights into how SEL can help students develop skills essential for success in school\, career\, and life. At the heart of this training is the understanding that building strong\, supportive relationships with students is key to promoting their social and emotional wellbeing. Our trainer will provide you with a framework for understanding SEL and share practical suggestions for implementing SEL practices in out-of-school-time (OST) settings. By focusing on our own social and emotional skills\, we can model and support SEL growth in young people\, helping them become thriving and engaged adults. Don’t miss out on this opportunity to deepen your relationships with students and take concrete actions to improve their social and emotional learning. \nThis event is in-person at the Falmouth Public Library in Falmouth\, MA. \n  \nREGISTER
URL:https://massmentors.org/event/social-emotional-learning-falmouth-ma/
LOCATION:Falmouth Public Library\, 300 Main Street\, Falmouth\, MA\, 02540\, United States
CATEGORIES:Health and Wellness,Training
ORGANIZER;CN="Natalie Spriggs":MAILTO:nspriggs@massmentors.org
END:VEVENT
BEGIN:VEVENT
DTSTART;TZID=America/New_York:20240110T100000
DTEND;TZID=America/New_York:20240110T120000
DTSTAMP:20260424T091503
CREATED:20231128T193758Z
LAST-MODIFIED:20231128T193758Z
UID:40162-1704880800-1704888000@massmentors.org
SUMMARY:Youth Mental Health & Well-Being
DESCRIPTION:Adolescence is a crucial period for developing and maintaining the habits important for mental health and well-being\, but some adolescents are at greater risk of mental health conditions due to their living conditions\, stigma\, discrimination or exclusion\, or lack of access to quality support and services. This is why mentoring is so critical. A supportive adult presence – that allows for a shared connection and vulnerability – contributes to positive growth and adaptation\, nearly fours years after COVID entered our lives. Come and learn how to promote resiliency among young people in this training\, targeted to direct service youth workers and mentors. \n  \nLearning Objectives: Participants will identify many of the mental health issues that youth are currently facing with particular mention of the rise in both isolation and suicide in the US at this time. Participants will expand their understanding of the general & specific things one can do about it in their role as mentor. Participants will examine the role that their culture plays in understanding how best to respond to young people when they are struggling. Participants will increase their understanding of the role that caring relationships with adults can have on a young person’s overall sense of well-being. \n  \nREGISTER
URL:https://massmentors.org/event/youth-mental-health-well-being/
LOCATION:Virtual
CATEGORIES:Health and Wellness,Training
ORGANIZER;CN="Rosie McMahan":MAILTO:rmcmahan@massmentors.org
END:VEVENT
BEGIN:VEVENT
DTSTART;TZID=America/New_York:20231212T100000
DTEND;TZID=America/New_York:20231212T130000
DTSTAMP:20260424T091503
CREATED:20231113T183625Z
LAST-MODIFIED:20231113T183625Z
UID:40079-1702375200-1702386000@massmentors.org
SUMMARY:Healing Happens: Trauma Informed Practices
DESCRIPTION:Many youth in our communities have experienced trauma\, the effects of which can be long-lasting and significant and can create barriers. Many youth have also experienced healing\, the effects of which can be long-lasting and significant and can create opportunities. This training includes a review of key terms and language and shares trauma-informed care & healing practices which can be employed to promote both resiliency and self-care. With a better understanding of trauma & healing and its impact on youth\, staff can structure programming that leverages the resilience possessed by youth and promotes healing environments. \n\nGoals & Objectives\n\nParticipants will expand their view of trauma informed care to encompass the importance and presence of healing.\nParticipants will gain skills to promote healing in their work with young people\nParticipants will identify healing in the lives of young people who have experienced trauma.\n\nREGISTER
URL:https://massmentors.org/event/healing-happens-trauma-informed-practices/
LOCATION:Virtual
CATEGORIES:Health and Wellness,Training
ORGANIZER;CN="Rosie McMahan":MAILTO:rmcmahan@massmentors.org
END:VEVENT
BEGIN:VEVENT
DTSTART;TZID=America/New_York:20231108T120000
DTEND;TZID=America/New_York:20231108T133000
DTSTAMP:20260424T091503
CREATED:20231017T201859Z
LAST-MODIFIED:20231020T185353Z
UID:40000-1699444800-1699450200@massmentors.org
SUMMARY:Nature Therapy as a Form of Mindfulness
DESCRIPTION:Forest Bathing in the social media age virtual presentation \nBy Todd Lynch\, Association of Nature and Forest Therapy certified guide  \n  \nCome join Todd Lynch on a virtual experience of Forest Bathing. Todd will share why Forest Bathing is relevant today to help empower young people to restore resilience and connection within themselves and their communities. You will learn the background of the practice as well as some of the latest research around the benefits of greenspace on our physical and psychological well-being. Todd will also share some ways to explore the practice on your own. A Forest Bathing walk grants us the opportunity to slow down and allow our bodies to engage all of our senses. Forest Bathing re-aligns our rhythms with the landscape\, allowing our senses a respite from everyday demands and uncertainties. It’s a chance to remember ourselves and the joyful relationships that await us outside.  \n\nMay I walk everyday on the banks of the water\, may my soul rest on the branches of trees which I planted\, may I refresh myself under the shadow of my sycamore. \n – Egyptian tomb inscription from 1400 BCE  \n\nProgram Outline: \nWelcome  \nA slideshow review of the practice\,  \nShort\, guided experience  \nTea together.  \n\nParticipants would need  to bring/have:  \nAn object they’ve found outdoors\, a plant or a view out the window.   \nA cup/mug of water/tea/coffee  \n  \nWhat does forest bathing have to do with mentoring?\nIf you were at the recent Research Corner with Dr. Sherry Hamby\, you learned about the value of resiliency dosage. What can we do – as caring adults – to foster a young person’s resiliency dosage? A number of ways\, especially sharing and making accessible mindfulness techniques. Guess what? Nature therapy is a tried and true method of being calm and quiet amongst the trees. Observing nature around you whilst breathing deeply can help both adults and children de-stress and boost health and wellbeing in a natural way. And it’s FREE!\n  \nTodd Lynch Bio \n\nTodd is a certified Forest and Nature Therapy guide. He received this credential through the Association of Forest and Nature Therapy training program. It is a 6-month intensive course that includes pre- requisites in Wilderness First Aid/CPR as well as native plant identification. As an artist and landscape designer\, Todd has collaborated on healing gardens\, native\, medicinal plantings and art installations across the US. He lives in Western Massachusetts. He has received multiple Massachusetts Cultural Council grants for environmental art installation and education. Todd has also lectured at universities\, garden organizations and apothecaries about medicinal plants in the landscape and has served as a design critic at the Conway School of Landscape Design\, Smith College and UMass Amherst. He blogs about the intersections of landscape\, wellness and art on Instagram @ecotropy.  \nVisit \nwww.ecotropy.net to learn more. \nFor more information please contact Todd: \n413.320.2736 \ntodd@ecotropy.net \n\nREGISTER
URL:https://massmentors.org/event/nature-therapy-as-a-form-of-mindfulness/
LOCATION:Virtual
CATEGORIES:Health and Wellness,Training
ORGANIZER;CN="Rosie McMahan":MAILTO:rmcmahan@massmentors.org
END:VEVENT
END:VCALENDAR