BEGIN:VCALENDAR
VERSION:2.0
PRODID:-//Mass Mentoring Partnership - ECPv6.15.20//NONSGML v1.0//EN
CALSCALE:GREGORIAN
METHOD:PUBLISH
X-ORIGINAL-URL:https://massmentors.org
X-WR-CALDESC:Events for Mass Mentoring Partnership
REFRESH-INTERVAL;VALUE=DURATION:PT1H
X-Robots-Tag:noindex
X-PUBLISHED-TTL:PT1H
BEGIN:VTIMEZONE
TZID:America/New_York
BEGIN:DAYLIGHT
TZOFFSETFROM:-0500
TZOFFSETTO:-0400
TZNAME:EDT
DTSTART:20230312T070000
END:DAYLIGHT
BEGIN:STANDARD
TZOFFSETFROM:-0400
TZOFFSETTO:-0500
TZNAME:EST
DTSTART:20231105T060000
END:STANDARD
BEGIN:DAYLIGHT
TZOFFSETFROM:-0500
TZOFFSETTO:-0400
TZNAME:EDT
DTSTART:20240310T070000
END:DAYLIGHT
BEGIN:STANDARD
TZOFFSETFROM:-0400
TZOFFSETTO:-0500
TZNAME:EST
DTSTART:20241103T060000
END:STANDARD
BEGIN:DAYLIGHT
TZOFFSETFROM:-0500
TZOFFSETTO:-0400
TZNAME:EDT
DTSTART:20250309T070000
END:DAYLIGHT
BEGIN:STANDARD
TZOFFSETFROM:-0400
TZOFFSETTO:-0500
TZNAME:EST
DTSTART:20251102T060000
END:STANDARD
END:VTIMEZONE
BEGIN:VEVENT
DTSTART;VALUE=DATE:20240923
DTEND;VALUE=DATE:20240927
DTSTAMP:20260425T235540
CREATED:20240520T195415Z
LAST-MODIFIED:20240925T135628Z
UID:41639-1727049600-1727395199@massmentors.org
SUMMARY:DEADLINE EXTENDED: ALKU Scholarship 2024
DESCRIPTION:Learn More about the ALKU Scholarship\nFor full guidelines and eligibility criteria\, please preview the application questions below. \n  \nThe 2024 ALKU Scholarship Application is open from May 20\, 2024 – September 26\, 2024.\nPreview the Application Questions \nApply for the 2024 ALKU Scholarship \n  \nContact Olivia Taylor\, Advancement Operations Manager\, at otaylor@massmentors.org if you have questions or technical difficulties with the application form. \nApplicants can expect to hear back by October 25th\, 2024. \n  \nDownload and Share the Informational Flyer
URL:https://massmentors.org/event/deadline-alku-scholarship-2024/
CATEGORIES:Deadline
ATTACH;FMTTYPE=application/pdf:https://massmentors.org/wp-content/uploads/2024/05/ALKU-Scholarship-Flyer-2024-3.pdf
ORGANIZER;CN="Olivia Taylor":MAILTO:otaylor@massmentors.org
END:VEVENT
END:VCALENDAR