BEGIN:VCALENDAR
VERSION:2.0
PRODID:-//Mass Mentoring Partnership - ECPv6.15.20//NONSGML v1.0//EN
CALSCALE:GREGORIAN
METHOD:PUBLISH
X-WR-CALNAME:Mass Mentoring Partnership
X-ORIGINAL-URL:https://massmentors.org
X-WR-CALDESC:Events for Mass Mentoring Partnership
REFRESH-INTERVAL;VALUE=DURATION:PT1H
X-Robots-Tag:noindex
X-PUBLISHED-TTL:PT1H
BEGIN:VTIMEZONE
TZID:America/New_York
BEGIN:DAYLIGHT
TZOFFSETFROM:-0500
TZOFFSETTO:-0400
TZNAME:EDT
DTSTART:20220313T070000
END:DAYLIGHT
BEGIN:STANDARD
TZOFFSETFROM:-0400
TZOFFSETTO:-0500
TZNAME:EST
DTSTART:20221106T060000
END:STANDARD
BEGIN:DAYLIGHT
TZOFFSETFROM:-0500
TZOFFSETTO:-0400
TZNAME:EDT
DTSTART:20230312T070000
END:DAYLIGHT
BEGIN:STANDARD
TZOFFSETFROM:-0400
TZOFFSETTO:-0500
TZNAME:EST
DTSTART:20231105T060000
END:STANDARD
BEGIN:DAYLIGHT
TZOFFSETFROM:-0500
TZOFFSETTO:-0400
TZNAME:EDT
DTSTART:20240310T070000
END:DAYLIGHT
BEGIN:STANDARD
TZOFFSETFROM:-0400
TZOFFSETTO:-0500
TZNAME:EST
DTSTART:20241103T060000
END:STANDARD
END:VTIMEZONE
BEGIN:VEVENT
DTSTART;TZID=America/New_York:20231128T080000
DTEND;TZID=America/New_York:20231204T170000
DTSTAMP:20260425T185929
CREATED:20231129T230634Z
LAST-MODIFIED:20231129T230944Z
UID:40180-1701158400-1701709200@massmentors.org
SUMMARY:Join the Network Keepsake Sweepstakes!
DESCRIPTION:Make An Impact on the mentoring movement in your community by helping us GROW!\nThis Giving Tuesday\, we are asking for your help to increase MMP’s reach across Massachusetts.\nIn return\, be entered to win our keepsake sweepstakes!\nJoin our network\, and be entered to win a one-of-a-kind portrait session with the team at Mallory Portraits in Portsmouth\, NH\, plus an overnight stay for four at the AC Hotel Downtown Portsmouth\, NH. \n  \nTO ENTER: \n1.Visit our website\, and submit the form to JOIN OUR NETWORK. You are done! \n2. Already in our Network?? No problem! SHARE our Giving Tuesday post to your stories on social media\, and tag us (@massmentoring) to be entered! \n  \nSweepstakes will run from 11AM Tuesday\, November 28th\, 2023 through 5PM on Monday\, December 4th\, 2023. Winner will be announced Tuesday\, December 5th\, 2023. No purchase necessary to enter. One entry per person. Limitations for booking portrait session and hotel stay may apply\, Full package details to be provided to sweepstakes winner. \n\n—- \n\nDONATIONS on Giving Tuesday\, and year-round\, help to support the GROWTH of programming and educational resources for the field of mentoring. \n  \nDONATE to MMP!
URL:https://massmentors.org/event/join-the-network-keepsake-sweepstakes/
CATEGORIES:Deadline,Network
ATTACH;FMTTYPE=image/png:https://massmentors.org/wp-content/uploads/2023/11/Giving-Tuesday-1.png
ORGANIZER;CN="Olivia Taylor":MAILTO:otaylor@massmentors.org
END:VEVENT
END:VCALENDAR