BEGIN:VCALENDAR
VERSION:2.0
PRODID:-//Mass Mentoring Partnership - ECPv6.15.20//NONSGML v1.0//EN
CALSCALE:GREGORIAN
METHOD:PUBLISH
X-WR-CALNAME:Mass Mentoring Partnership
X-ORIGINAL-URL:https://massmentors.org
X-WR-CALDESC:Events for Mass Mentoring Partnership
REFRESH-INTERVAL;VALUE=DURATION:PT1H
X-Robots-Tag:noindex
X-PUBLISHED-TTL:PT1H
BEGIN:VTIMEZONE
TZID:America/New_York
BEGIN:DAYLIGHT
TZOFFSETFROM:-0500
TZOFFSETTO:-0400
TZNAME:EDT
DTSTART:20250309T070000
END:DAYLIGHT
BEGIN:STANDARD
TZOFFSETFROM:-0400
TZOFFSETTO:-0500
TZNAME:EST
DTSTART:20251102T060000
END:STANDARD
BEGIN:DAYLIGHT
TZOFFSETFROM:-0500
TZOFFSETTO:-0400
TZNAME:EDT
DTSTART:20260308T070000
END:DAYLIGHT
BEGIN:STANDARD
TZOFFSETFROM:-0400
TZOFFSETTO:-0500
TZNAME:EST
DTSTART:20261101T060000
END:STANDARD
BEGIN:DAYLIGHT
TZOFFSETFROM:-0500
TZOFFSETTO:-0400
TZNAME:EDT
DTSTART:20270314T070000
END:DAYLIGHT
BEGIN:STANDARD
TZOFFSETFROM:-0400
TZOFFSETTO:-0500
TZNAME:EST
DTSTART:20271107T060000
END:STANDARD
END:VTIMEZONE
BEGIN:VEVENT
DTSTART;TZID=America/New_York:20260408T100000
DTEND;TZID=America/New_York:20260408T140000
DTSTAMP:20260423T072535
CREATED:20260323T191514Z
LAST-MODIFIED:20260402T152510Z
UID:44794-1775642400-1775656800@massmentors.org
SUMMARY:Day 2: Healing Happens
DESCRIPTION:REGISTER HERE \nTuesday April 7th and Wednesday April 8th10am-2pm \nJoin us for an 8 hour learning experience over 2 days for an intensive workshop on moving beyond being trauma-informed into creating spaces where healing can happen.  \nMany youth in our communities have experienced trauma\, the effects of which can be long-lasting and significant\, and can create barriers to forming relationships with supportive adults. This training includes a review of key terms/language and shares trauma-informed care practices and methods that can be employed to promote both resiliency\, self-care\, and supportive environments. With a better understanding of trauma and its impact on youth\, staff can structure programming that leverages the resilience possessed by youth and promotes healing environments.  \nWe will meet in person on April 7th and 8th on Kneeland St at the MMP offices\, beginning at 10am. Coffee will be provided in the morning as well as snacks throughout the day. A break for lunch will be provided. You’re welcome to bring a lunch from home\, or explore the many opportunities to pick up a lunch in our Chinatown neighborhood.  \nClick the link here for an additional offering of this same workshop\, same time and location\, on April 28th and 29th. \nQuestions? Reach out to Lauren lmccabe@massmentors.org or Emily edeluca@massmentors.org
URL:https://massmentors.org/event/day-2-healing-happens/
LOCATION:Mass Mentoring Partnership\, 75 Kneeland St\, Boston\, MA\, United States
END:VEVENT
END:VCALENDAR