BEGIN:VCALENDAR
VERSION:2.0
PRODID:-//Mass Mentoring Partnership - ECPv6.15.20//NONSGML v1.0//EN
CALSCALE:GREGORIAN
METHOD:PUBLISH
X-WR-CALNAME:Mass Mentoring Partnership
X-ORIGINAL-URL:https://massmentors.org
X-WR-CALDESC:Events for Mass Mentoring Partnership
REFRESH-INTERVAL;VALUE=DURATION:PT1H
X-Robots-Tag:noindex
X-PUBLISHED-TTL:PT1H
BEGIN:VTIMEZONE
TZID:America/New_York
BEGIN:DAYLIGHT
TZOFFSETFROM:-0500
TZOFFSETTO:-0400
TZNAME:EDT
DTSTART:20250309T070000
END:DAYLIGHT
BEGIN:STANDARD
TZOFFSETFROM:-0400
TZOFFSETTO:-0500
TZNAME:EST
DTSTART:20251102T060000
END:STANDARD
BEGIN:DAYLIGHT
TZOFFSETFROM:-0500
TZOFFSETTO:-0400
TZNAME:EDT
DTSTART:20260308T070000
END:DAYLIGHT
BEGIN:STANDARD
TZOFFSETFROM:-0400
TZOFFSETTO:-0500
TZNAME:EST
DTSTART:20261101T060000
END:STANDARD
BEGIN:DAYLIGHT
TZOFFSETFROM:-0500
TZOFFSETTO:-0400
TZNAME:EDT
DTSTART:20270314T070000
END:DAYLIGHT
BEGIN:STANDARD
TZOFFSETFROM:-0400
TZOFFSETTO:-0500
TZNAME:EST
DTSTART:20271107T060000
END:STANDARD
END:VTIMEZONE
BEGIN:VEVENT
DTSTART;TZID=America/New_York:20260128T100000
DTEND;TZID=America/New_York:20260128T130000
DTSTAMP:20260425T081117
CREATED:20251211T195715Z
LAST-MODIFIED:20251211T200657Z
UID:44346-1769594400-1769605200@massmentors.org
SUMMARY:Bagels & Best Practices for Mentoring Programs: Day 2 of 2
DESCRIPTION:Join us for a two day special event: one day in person in Western MA\, and one virtual day for targeted technical support based on your learning! At Bagels and Best Practices Day 2\, staff will receive coaching to support their efforts to implement the Elements of Effective Practice for Mentoring (TM)\, including the following topics: \n– Foundational Program Design of Quality Mentoring Programs \n– Recruitment\, Screening\, and Enrolling Program Participants \n– Training Participants and Establishing Mentoring Relationships (Matching) \n– Ongoing Support\, Planning for Program Celebration and Exit \nParticipants are encouraged to bring topics\, and even documents\, that you may need support with based on your understanding of the EEPM. Participation at Day 1 in-person on January 13th not required\, but suggested! \n  \nREGISTER
URL:https://massmentors.org/event/bagels-best-practices-for-mentoring-programs-day-2-of-2/
LOCATION:Virtual
ORGANIZER;CN="Janeen Smith":MAILTO:jsmith@massmentors.org
END:VEVENT
END:VCALENDAR